BEGIN:VCALENDAR
VERSION:2.0
PRODID:-//info@saq.ch//NONSGML//EN
CALSCALE:GREGORIAN
BEGIN:VEVENT
UID:59363
DTSTART:20260520T113000Z
DTEND:20260520T153000Z
DTSTAMP:20260520T113000Z
CREATED:20260407T063931Z
LAST-MODIFIED:20260414T124959Z
SUMMARY:SAQ: Neue EU-Verpackungsanforderungen - Sind Sie auf die PPWR vorbereitet?
DESCRIPTION:Neue EU-Vorgaben zur Verpackung: Was bedeutet die PPWR 2025/40 für Ihre Exporte? Erfahren Sie\, wie Sie Ihre Produkte bis August 2026 fit machen.
LOCATION:OST Campus\, Rosenbergstrasse 59\, 9001 St. Gallen\, CH
URL:https://saq.ch/veranstaltungen/2026/neue-eu-verpackungsanforderungen-sind-sie-auf-die-ppwr-vorbereitet/
SEQUENCE:0
STATUS:CONFIRMED
TRANSP:OPAQUE
END:VEVENT
END:VCALENDAR