BEGIN:VCALENDAR
VERSION:2.0
PRODID:-//info@saq.ch//NONSGML//EN
CALSCALE:GREGORIAN
BEGIN:VEVENT
UID:59303
DTSTART:20260908T150000Z
DTEND:20260908T170000Z
DTSTAMP:20260908T150000Z
CREATED:20260205T085133Z
LAST-MODIFIED:20260205T085226Z
SUMMARY:SAQ: DTC Dynamic Test Center
DESCRIPTION:Weitere Informationen folgen.
LOCATION:Vauffelin
URL:https://saq.ch/veranstaltungen/2026/dtc-dynamic-test-center/
SEQUENCE:0
STATUS:CONFIRMED
TRANSP:OPAQUE
END:VEVENT
END:VCALENDAR