BEGIN:VCALENDAR
VERSION:2.0
PRODID:-//info@saq.ch//NONSGML//EN
CALSCALE:GREGORIAN
BEGIN:VEVENT
UID:59200
DTSTART:20260602T150000Z
DTEND:20260602T170000Z
DTSTAMP:20260602T150000Z
CREATED:20251021T090628Z
LAST-MODIFIED:20260202T123635Z
SUMMARY:SAQ: Compliance\; KnowHow Transfer für Nachhaltiges Wissen\; ROHS - REAG
DESCRIPTION:Weitere Informationen folgen.
URL:https://saq.ch/veranstaltungen/2026/compliance-knowhow-transfer-fuer-nachhaltiges-wissen-rohs-reag/
SEQUENCE:0
STATUS:CONFIRMED
TRANSP:OPAQUE
END:VEVENT
END:VCALENDAR